View In:
ArcGIS JavaScript
ArcGIS Online Map Viewer
ArcGIS Earth
Service Description: Flood/Flood_344_6m
Name: Flood/Flood_344_6m
Description:
Single Fused Map Cache: false
Extent:
XMin: 674015.383473324
YMin: 5615405.534225629
XMax: 708263.383473324
YMax: 5638450.534225629
Spatial Reference: 3157
(3157)
LatestVCSWkid(0)
Initial Extent:
XMin: 674015.383473324
YMin: 5615405.534225629
XMax: 708263.383473324
YMax: 5638450.534225629
Spatial Reference: 3157
(3157)
LatestVCSWkid(0)
Full Extent:
XMin: 674015.383473324
YMin: 5615405.534225629
XMax: 708263.383473324
YMax: 5638450.534225629
Spatial Reference: 3157
(3157)
LatestVCSWkid(0)
Pixel Size X: 1.0
Pixel Size Y: 1.0
Band Count: 1
Pixel Type: F32
RasterFunction Infos: {"rasterFunctionInfos": [
{
"name": "Classified",
"description": "A raster function template.",
"help": ""
},
{
"name": "None",
"description": "",
"help": ""
}
]}
Mensuration Capabilities: Basic
Has Histograms: true
Has Colormap: false
Has Multi Dimensions : false
Rendering Rule:
Min Scale: 0
Max Scale: 0
Copyright Text:
Service Data Type: esriImageServiceDataTypeGeneric
Min Values: -307.4505920410156
Max Values: 458.6536865234375
Mean Values: 47.9511724014144
Standard Deviation Values: 77.40900655738096
Object ID Field:
Fields:
None
Default Mosaic Method: Center
Allowed Mosaic Methods:
SortField:
SortValue: null
Mosaic Operator: First
Default Compression Quality: 75
Default Resampling Method: Bilinear
Max Record Count: null
Max Image Height: 4100
Max Image Width: 15000
Max Download Image Count: null
Max Mosaic Image Count: null
Allow Raster Function: true
Allow Copy: true
Allow Analysis: true
Allow Compute TiePoints: false
Supports Statistics: false
Supports Advanced Queries: false
Use StandardizedQueries: true
Raster Type Infos:
Name: Raster Dataset
Description: Supports all ArcGIS Raster Datasets
Help:
Has Raster Attribute Table: false
Edit Fields Info: null
Ownership Based AccessControl For Rasters: null
Child Resources:
Info
Histograms
Statistics
Key Properties
Legend
Raster Function Infos
Supported Operations:
Export Image
Identify
Measure
Compute Histograms
Compute Statistics Histograms
Get Samples
Compute Class Statistics
Query Boundary
Compute Pixel Location
Compute Angles
Validate
Project