View In:
ArcGIS JavaScript
ArcGIS Online Map Viewer
ArcGIS Earth
Service Description: Surface/RiverBathymetry
Name: Surface/RiverBathymetry
Description:
Single Fused Map Cache: false
Extent:
XMin: 671123.9936738312
YMin: 5614994.214191825
XMax: 712457.9936738312
YMax: 5640942.214191825
Spatial Reference: 3157
(3157)
LatestVCSWkid(0)
Initial Extent:
XMin: 671123.9936738312
YMin: 5614994.214191825
XMax: 712457.9936738312
YMax: 5640942.214191825
Spatial Reference: 3157
(3157)
LatestVCSWkid(0)
Full Extent:
XMin: 671123.9936738312
YMin: 5614994.214191825
XMax: 712457.9936738312
YMax: 5640942.214191825
Spatial Reference: 3157
(3157)
LatestVCSWkid(0)
Pixel Size X: 2.0
Pixel Size Y: 2.0
Band Count: 1
Pixel Type: F32
RasterFunction Infos: {"rasterFunctionInfos": [{
"name": "None",
"description": "",
"help": ""
}]}
Mensuration Capabilities: Basic
Has Histograms: true
Has Colormap: false
Has Multi Dimensions : false
Rendering Rule:
Min Scale: 0
Max Scale: 0
Copyright Text:
Service Data Type: esriImageServiceDataTypeGeneric
Min Values: -20
Max Values: 0
Mean Values: -8.468762060919717
Standard Deviation Values: 5.710101194754371
Object ID Field:
Fields:
None
Default Mosaic Method: Center
Allowed Mosaic Methods:
SortField:
SortValue: null
Mosaic Operator: First
Default Compression Quality: 75
Default Resampling Method: Bilinear
Max Record Count: null
Max Image Height: 4100
Max Image Width: 15000
Max Download Image Count: null
Max Mosaic Image Count: null
Allow Raster Function: true
Allow Copy: true
Allow Analysis: true
Allow Compute TiePoints: false
Supports Statistics: false
Supports Advanced Queries: false
Use StandardizedQueries: true
Raster Type Infos:
Name: Raster Dataset
Description: Supports all ArcGIS Raster Datasets
Help:
Has Raster Attribute Table: false
Edit Fields Info: null
Ownership Based AccessControl For Rasters: null
Child Resources:
Info
Histograms
Statistics
Key Properties
Legend
Raster Function Infos
Supported Operations:
Export Image
Identify
Measure
Compute Histograms
Compute Statistics Histograms
Get Samples
Compute Class Statistics
Query Boundary
Compute Pixel Location
Compute Angles
Validate
Project